BEGIN:VCALENDAR
VERSION:2.0
PRODID:-//Toastmaster - ECPv6.15.20//NONSGML v1.0//EN
CALSCALE:GREGORIAN
METHOD:PUBLISH
X-ORIGINAL-URL:https://toastmasters-95.org
X-WR-CALDESC:Events for Toastmaster
REFRESH-INTERVAL;VALUE=DURATION:PT1H
X-Robots-Tag:noindex
X-PUBLISHED-TTL:PT1H
BEGIN:VTIMEZONE
TZID:UTC
BEGIN:STANDARD
TZOFFSETFROM:+0000
TZOFFSETTO:+0000
TZNAME:UTC
DTSTART:20250101T000000
END:STANDARD
END:VTIMEZONE
BEGIN:VEVENT
DTSTART;TZID=UTC:20260505T080000
DTEND;TZID=UTC:20260505T170000
DTSTAMP:20260422T091605
CREATED:20260420T211827Z
LAST-MODIFIED:20260420T212542Z
UID:7794-1777968000-1778000400@toastmasters-95.org
SUMMARY:Candidate Showcase
DESCRIPTION:Candidate Showcase				\n				\n				\n				\n							\n			\n						\n		\n						\n				\n				\n				\n					May 5 - 8:00 am				\n				\n				\n				\n									The Candidate Showcase for D95 2026-2026\, Tuesday\, May 5th \,2026\, starting 8 pm.								\n				\n				\n				\n									This is your opportunity to get to know our candidates for the elected positionsas Division Directors and members of the next District Trio 2026/2027. 								\n				\n				\n				\n					Registration link for the meeting:				\n				\n				\n				\n									\n					\n						\n									Register Now\n					\n					\n				\n								\n				\n				\n				\n									Please register to receive the link to enter the meeting. The meeting room will be opened around 19:45 hrs. 								\n				\n				\n				\n									The registration link is the same for candidates and participants.
URL:https://toastmasters-95.org/event/candidate-showcase/
END:VEVENT
END:VCALENDAR